BEGIN:VCALENDAR
VERSION:2.0
PRODID:-//Pra Conhecer Melhor - ECPv6.15.20//NONSGML v1.0//EN
CALSCALE:GREGORIAN
METHOD:PUBLISH
X-ORIGINAL-URL:https://praconhecermelhor.com.br
X-WR-CALDESC:Eventos para Pra Conhecer Melhor
REFRESH-INTERVAL;VALUE=DURATION:PT1H
X-Robots-Tag:noindex
X-PUBLISHED-TTL:PT1H
BEGIN:VTIMEZONE
TZID:America/Sao_Paulo
BEGIN:STANDARD
TZOFFSETFROM:-0300
TZOFFSETTO:-0300
TZNAME:-03
DTSTART:20230101T000000
END:STANDARD
END:VTIMEZONE
BEGIN:VEVENT
DTSTART;TZID=America/Sao_Paulo:20250508T190000
DTEND;TZID=America/Sao_Paulo:20250508T220000
DTSTAMP:20260423T144510
CREATED:20250420T132814Z
LAST-MODIFIED:20250420T132814Z
UID:3898-1746730800-1746741600@praconhecermelhor.com.br
SUMMARY:"Jazz Is Dead" com Adrian Younge
DESCRIPTION:A cidade será palco da estreia do projeto internacional “Jazz Is Dead”\, uma iniciativa que celebra o legado do jazz com uma roupagem contemporânea e colaborações globais. Para marcar sua chegada\, o projeto traz o renomado compositor e multi-instrumentista americano Adrian Younge. \nYounge\, um dos fundadores do “Jazz Is Dead” e conhecido por sua fusão única de soul psicodélico\, hip hop e jazz\, se apresentará em Curitiba mostrando o talento que o consagrou mundialmente. Sua produção analógica e abordagem de questões sociais em sua música o tornam uma figura central na reinvenção do jazz. \nO projeto “Jazz Is Dead”\, criado por influentes nomes do cenário jazzístico\, promete conectar o público através de uma atmosfera musical única. \nServiço: \n\nEvento: “Jazz Is Dead” com Adrian Younge\nData: 08 de maio de 2025 (quinta-feira)\nHorário: A partir das 19h\nLocal: R. Mateus Leme\, 1719\nIngressos: A partir de R$ 70 (lote promocional) na plataforma Meaple.\nInformações: Instagram @barleria e @jazzisdead.
URL:https://praconhecermelhor.com.br/evento/jazz-is-dead-com-adrian-younge/
LOCATION:Mateus Leme\, 1719\, R. Mateus Leme\, 1719\, Curitiba\, Paraná\, Brazil
CATEGORIES:Música
ATTACH;FMTTYPE=image/jpeg:https://praconhecermelhor.com.br/wp-content/uploads/2025/04/jazz-is-dead.jpg
END:VEVENT
BEGIN:VEVENT
DTSTART;TZID=America/Sao_Paulo:20250506T200000
DTEND;TZID=America/Sao_Paulo:20250506T220000
DTSTAMP:20260423T144510
CREATED:20250415T133052Z
LAST-MODIFIED:20250415T134009Z
UID:3862-1746561600-1746568800@praconhecermelhor.com.br
SUMMARY:Terça Brasileira no Paiol recebe "O Jazz da Vero"
DESCRIPTION:Curitiba terá uma noite especial dedicada ao jazz contemporâneo! No dia 6 de maio\, às 20h\, o palco do Teatro do Paiol será tomado pela sonoridade única do projeto “O Jazz da Vero”\, com a talentosa cantora e compositora VERO (Veronica Melhem). O evento integra a tradicional Terça Brasileira\, que valoriza a diversidade da música nacional. \nVERO\, artista solo e independente lançada em 2021 com o aclamado álbum “CONTRAPRANTO”\, promete uma apresentação envolvente\, explorando as nuances do jazz com influências da música brasileira e elementos eletrônicos. Seu trabalho\, produzido em colaboração com lucasbin e contando com participações de diversos artistas da cena nacional\, tem conquistado espaço e reconhecimento\, sendo destaque em importantes veículos de comunicação. \nNo show\, o público poderá apreciar a voz marcante de VERO e suas composições autorais\, que transitam por atmosferas introspectivas e ritmos pulsantes. Uma oportunidade de vivenciar a originalidade e a qualidade da nova música brasileira em um dos espaços culturais mais emblemáticos de Curitiba. \nServiço: \n\nEvento: Terça Brasileira – O Jazz da Vero\nData: 6 de maio de 2025 (terça-feira)\nHorário: 20h\nLocal: Teatro do Paiol\nEndereço: Avenida Presidente Getúlio Vargas\, 1118 – Rebouças\, Curitiba – PR\nIngressos: R$ 35\,00 (inteira) e R$ 17\,50 (meia-entrada)\nVendas online: www.comprenozet.com.br\n\nNão perca essa oportunidade de se encantar com o jazz inovador de VERO no charmoso Teatro do Paiol!
URL:https://praconhecermelhor.com.br/evento/terca-brasileira-no-paiol-recebe-o-jazz-da-vero/
LOCATION:Teatro Paiol\, Avenida Presidente Getúlio Vargas\, 1118 - Rebouças\, Curitiba\, Paraná\, Brazil
CATEGORIES:Música
ATTACH;FMTTYPE=image/jpeg:https://praconhecermelhor.com.br/wp-content/uploads/2025/04/VERO.jpg
END:VEVENT
BEGIN:VEVENT
DTSTART;TZID=America/Sao_Paulo:20250425T210000
DTEND;TZID=America/Sao_Paulo:20250425T233000
DTSTAMP:20260423T144510
CREATED:20250422T151705Z
LAST-MODIFIED:20250530T155137Z
UID:3911-1745614800-1745623800@praconhecermelhor.com.br
SUMMARY:Show de 10 anos da Banda Carne Doce em Curitiba
DESCRIPTION:Curitiba será palco de uma festa sonora especial! A banda goianiense Carne Doce\, um dos nomes mais relevantes da música autoral brasileira\, chega à cidade para comemorar seus 10 anos de trajetória com um show imperdível no Hottel 418. \nCom uma década de estrada marcada por cinco álbuns aclamados\, incluindo “Tônus” e o recente “Cererê”\, e liderada pela voz marcante de Salma Jô\, a Carne Doce conquistou um público fiel com suas letras fortes e arranjos intensos. Indicada ao Prêmio da Música Brasileira 2025 como Melhor Artista de Rock\, a banda formada por Salma Jô (vocal)\, Macloys Aquino (guitarra)\, João Victor Santana (multi-instrumentista)\, Anderson Maia (baixo) e Frederico Valle (bateria) promete uma noite memorável. \nPrepare-se para celebrar 10 anos de música autoral de qualidade com a energia única da Carne Doce em Curitiba! \nServiço \n\nEvento: Show de 10 Anos da Banda Carne Doce em Curitiba\nData: 25 de abril de 2025 (sexta-feira)\nHorário: Abertura da casa às 21h\, show às 23h\nLocal: Hottel 418 (R. Barão do Rio Branco\, 418)\nIngressos: A partir de R$ 60 (meia-entrada para o primeiro lote ou ingresso solidário mediante doação de 1 kg de alimento não perecível ou agasalho em bom estado) até R$ 100 (inteira para o primeiro lote). À venda no site Meaple.\n\nGaranta seu ingresso e celebre uma década de Carne Doce em Curitiba!
URL:https://praconhecermelhor.com.br/evento/show-de-10-anos-da-banda-carne-doce-em-curitiba/
LOCATION:Hottel 418\, R. Barão do Rio Branco\, 418\, Curitiba\, Paraná\, Brazil
CATEGORIES:Música
ATTACH;FMTTYPE=image/jpeg:https://praconhecermelhor.com.br/wp-content/uploads/2025/04/Banda-Carne-Doce.jpg
END:VEVENT
BEGIN:VEVENT
DTSTART;TZID=America/Sao_Paulo:20250419T210000
DTEND;TZID=America/Sao_Paulo:20250419T223000
DTSTAMP:20260423T144510
CREATED:20250415T141552Z
LAST-MODIFIED:20250415T141552Z
UID:3881-1745096400-1745101800@praconhecermelhor.com.br
SUMMARY:"Gala&Glamour"\, o novo show da drag queen Dacota Monteiro
DESCRIPTION:Prepare-se para uma noite de puro brilho e irreverência! Curitiba recebe no dia 19 de abril\, às 21h\, no Teatro Regina Vogue\, o espetáculo “Gala&Glamour”\, estrelado pela multiartista e drag queen Dacota Monteiro\, finalista do aclamado reality show Corrida das Blogueiras. \nCom sua energia contagiante e talento multifacetado\, Dacota Monteiro promete incendiar o palco com uma performance única que transita entre o humor do stand-up\, a sensualidade do burlesco\, a atmosfera envolvente do cabaré\, a expressividade do voguing\, além de canto e dança. “Gala&Glamour” é uma celebração vibrante da cultura drag e das artes performáticas\, oferecendo ao público curitibano uma experiência surpreendente e inesquecível\, repleta de glamour e extravagância. \nOs ingressos para esta noite especial já estão à venda no site do Disk Ingressos\, com valores a partir de R$60. Para os fãs que desejam uma experiência ainda mais exclusiva\, está disponível um pacote VIP que inclui lugar reservado nas primeiras fileiras do teatro\, uma foto com a carismática Dacota Monteiro e um card autografado\, garantindo momentos memoráveis. \nServiço: \n\nEspetáculo: Dacota: Gala&Glamour\nData: 19 de abril de 2025 (sábado)\nHorário: 21h\nLocal: Teatro Regina Vogue\nIngressos: A partir de R$60 (à venda no site do Disk Ingressos)\nPacote VIP: Foto com a artista\, lugar reservado nas primeiras fileiras e card autografado.\n\nNão perca a chance de se encantar com o talento e a ousadia de Dacota Monteiro em “Gala&Glamour”!
URL:https://praconhecermelhor.com.br/evento/galaglamour-o-novo-show-da-drag-queen-dacota-monteiro/
LOCATION:Teatro Regina Vogue\, Av. Sete de Setembro 2775\, Curitiba\, Paraná\, Brazil
CATEGORIES:Teatro
ATTACH;FMTTYPE=image/jpeg:https://praconhecermelhor.com.br/wp-content/uploads/2025/04/Dacota-Monteiro.jpg
END:VEVENT
BEGIN:VEVENT
DTSTART;TZID=America/Sao_Paulo:20250330T160000
DTEND;TZID=America/Sao_Paulo:20250330T233000
DTSTAMP:20260423T144510
CREATED:20250214T135142Z
LAST-MODIFIED:20250311T221257Z
UID:3244-1743350400-1743377400@praconhecermelhor.com.br
SUMMARY:Alanis Morissette em Curitiba
DESCRIPTION:Curitiba se prepara para receber a icônica Alanis Morissette! No dia 30 de março de 2025\, a cantora canadense desembarca na Pedreira Paulo Leminski com a “Triple Moon Tour”\, sua nova turnê\, prometendo uma noite inesquecível para os fãs de todas as gerações. \nDona de hits atemporais como “Ironic”\, “You Oughta Know” e “Hand in My Pocket”\, Alanis Morissette marcou a história da música com sua voz poderosa\, letras introspectivas e performances emocionantes. A “Triple Moon Tour” celebra seus mais de 25 anos de carreira\, revisitando clássicos e apresentando novas canções que exploram temas como feminismo\, empoderamento e autoconhecimento. \nCom uma presença de palco magnética e uma banda de músicos talentosos\, Alanis promete um show vibrante e emocionante\, que vai levar o público a cantar e se emocionar do início ao fim. \nNascida em Ottawa\, Canadá\, Alanis Morissette iniciou sua carreira musical na adolescência\, mas foi com o álbum “Jagged Little Pill” (1995) que ela alcançou o estrelato mundial. O álbum\, um dos mais vendidos da história\, revelou uma artista única e autêntica\, que conquistou o público com sua sinceridade e atitude. \nServiço: \n\nShow: Alanis Morissette – “Triple Moon Tour”\nData: 30 de março de 2025 (Domingo)\nAbertura dos portões: 16h\nHorário do show: 19h30\nLocal: Pedreira Paulo Leminski\nEndereço: R. João Gava\, 970 – Abranches\, Curitiba – PR\, 82130-010\nClassificação: 16 anos. Menores de 05 a 15 anos\, apenas acompanhados por responsáveis legais. *Sujeito a alteração por Decisão Judicial.\nIngressos: Disponíveis em Ticketmaster
URL:https://praconhecermelhor.com.br/evento/alanis-morissette-em-curitiba/
LOCATION:Pedreira Paulo Leminski\, Rua João Gava\, 970\, Curitiba\, PR\, 82130-010\, Brazil
CATEGORIES:Música
ATTACH;FMTTYPE=image/webp:https://praconhecermelhor.com.br/wp-content/uploads/2025/02/alanis.webp
END:VEVENT
BEGIN:VEVENT
DTSTART;TZID=America/Sao_Paulo:20250328T080000
DTEND;TZID=America/Sao_Paulo:20250330T170000
DTSTAMP:20260423T144510
CREATED:20250328T234432Z
LAST-MODIFIED:20250329T001350Z
UID:3815-1743148800-1743354000@praconhecermelhor.com.br
SUMMARY:Gastronomix 2025
DESCRIPTION:  \nO Gastronomix\, evento que une alta gastronomia e música instrumental\, celebra sua 20ª edição em 2025\, de 28 a 30 de março\, na Universidade Positivo. Com curadoria do renomado Chef Celso Freire\, o festival oferece uma experiência única para os amantes da boa comida e da música\, com pratos de chefs renomados\, shows ao vivo e atividades para toda a família. \nUma Celebração de Sabores e Ritmos: \nO Gastronomix 2025 apresenta um cardápio diversificado\, com opções para todos os paladares\, incluindo pratos vegetarianos\, veganos e sem glúten. Além disso\, o evento conta com uma seleção de sobremesas e drinks refrescantes\, para acompanhar os shows de música instrumental que embalam o público durante todo o festival. \nAtrações para Todos os Públicos: \nAlém da gastronomia e da música\, o Gastronomix oferece diversas atrações para toda a família\, como atividades para crianças\, espaço pet e uma feirinha com produtos paranaenses. O evento também se preocupa com a sustentabilidade\, utilizando louças reutilizáveis e sistemas de compostagem e reciclagem. \nServiço: \nEvento: Gastronomix 2025\nDatas: 28\, 29 e 30 de março de 2025\nLocal: UP Experience – Sala de Eventos Universidade Positivo\, Curitiba
URL:https://praconhecermelhor.com.br/evento/gastronomix-2025/
LOCATION:UP Experience – Universidade Positivo\, Prof. Pedro Viriato Parigot de Souza\, 5.300\, Curitiba\, Paraná\, Brazil
CATEGORIES:Festivais
ATTACH;FMTTYPE=image/jpeg:https://praconhecermelhor.com.br/wp-content/uploads/2025/03/gatronomix-2.jpg
END:VEVENT
BEGIN:VEVENT
DTSTART;TZID=America/Sao_Paulo:20250324T080000
DTEND;TZID=America/Sao_Paulo:20250406T170000
DTSTAMP:20260423T144510
CREATED:20250214T132913Z
LAST-MODIFIED:20250311T221459Z
UID:3233-1742803200-1743958800@praconhecermelhor.com.br
SUMMARY:Festival de Curitiba: O maior festival de teatro da América Latina
DESCRIPTION:Curitiba se transforma em palco para a maior celebração das artes cênicas da América Latina! O Festival de Curitiba\, evento tradicional da cidade\, reúne anualmente centenas de espetáculos\, performances\, oficinas e debates\, atraindo artistas e espectadores de todo o Brasil e do mundo. \nCom uma programação diversificada e inovadora\, o festival abrange diferentes linguagens teatrais\, do drama à comédia\, do teatro de rua ao teatro infantil\, proporcionando uma experiência única para todos os públicos. Além dos espetáculos\, o evento conta com o tradicional Fringe\, mostra paralela que valoriza a produção independente e experimental. \nO Festival de Curitiba é um marco no calendário cultural brasileiro\, impulsionando a cena teatral\, fomentando o intercâmbio entre artistas e promovendo o acesso à cultura. \nDestaques do Festival: \n\nMostra Oficial: Seleção de espetáculos consagrados e produções inéditas\, com diretores e atores renomados.\nFringe: Mostra paralela que apresenta trabalhos de grupos e artistas independentes\, com foco na experimentação e na diversidade.\nGuritiba: Programação especial para crianças e jovens\, com espetáculos\, oficinas e atividades lúdicas.\nPensamento: Ciclo de debates\, palestras e workshops com intelectuais\, artistas e pesquisadores\, abordando temas relevantes para as artes cênicas e a sociedade.\nGastronomia: Espaços gastronômicos que oferecem o melhor da culinária local e internacional\, com opções para todos os paladares.\n\nO Festival de Curitiba é uma oportunidade imperdível para vivenciar a magia do teatro e se encantar com a diversidade das artes cênicas.
URL:https://praconhecermelhor.com.br/evento/festival-de-curitiba/
LOCATION:Teatro Guaíra\, R. XV de Novembro\, 971\, Curitiba\, PR\, 80060-000\, Brazil
CATEGORIES:Festivais,Teatro
ATTACH;FMTTYPE=image/jpeg:https://praconhecermelhor.com.br/wp-content/uploads/2025/02/Fest-curi.jpg
END:VEVENT
BEGIN:VEVENT
DTSTART;TZID=America/Sao_Paulo:20250322T200000
DTEND;TZID=America/Sao_Paulo:20250322T220000
DTSTAMP:20260423T144510
CREATED:20250311T221940Z
LAST-MODIFIED:20250311T221940Z
UID:3671-1742673600-1742680800@praconhecermelhor.com.br
SUMMARY:Mônica Martelli traz o sucesso "Minha Vida em Marte" para Curitiba
DESCRIPTION:Prepare-se para muitas risadas e reflexões! A atriz Mônica Martelli retorna à cidade com o aclamado espetáculo “Minha Vida em Marte”\, em única apresentação no dia 22 de março de 2025\, às 21h\, no Guairão. \nApós um hiato de três anos\, a peça\, que já conquistou mais de 380 mil espectadores e inspirou o filme de sucesso com o mesmo nome\, volta aos palcos para mostrar as agruras e delícias da vida de Fernanda\, uma mulher que enfrenta as intolerâncias do dia a dia\, como a falta de libido\, o acúmulo de mágoas e as expectativas frustradas. \nCom seu humor característico e uma abordagem sincera\, Mônica Martelli convida o público a refletir sobre temas como casamento\, separação\, solidão\, machismo e a busca pela felicidade. A personagem\, inspirada nas próprias experiências da atriz\, luta contra o medo de ressignificar a vida e de envelhecer em uma sociedade que impõe padrões inatingíveis. \nCuriosidades sobre o espetáculo: \n\nInspiração pessoal: A peça foi escrita a partir das vivências e observações de Mônica Martelli\, o que torna a história ainda mais autêntica e identificável.\nSucesso de público: “Minha Vida em Marte” já foi visto por mais de 380 mil pessoas\, com sessões esgotadas em diversas cidades do Brasil.\nDo teatro para o cinema: O sucesso da peça inspirou o filme homônimo\, que levou mais de cinco milhões de espectadores aos cinemas e marcou a última atuação de Paulo Gustavo ao lado da amiga.\nParceria de sucesso: A peça e o filme foram dirigidos por Susana Garcia\, irmã de Mônica Martelli\, celebrando a parceria de sucesso entre as duas.\nRelevância dos temas: A peça aborda temas atuais e relevantes\, como a pressão estética sobre as mulheres\, as dificuldades do casamento e a busca pelo autoconhecimento.\n\nServiço: \n\nEspetáculo: “Minha Vida em Marte”\nData: 22 de março de 2025 (sábado)\nHorário: Abertura da casa às 20h\, show às 21h\nLocal: Guairão (Teatro Guaíra)\nEndereço: Rua Conselheiro Laurindo\, 175 – Centro\, Curitiba – PR\nIngressos: À venda no site Disk Ingressos.
URL:https://praconhecermelhor.com.br/evento/monica-martelli-em-curitiba/
LOCATION:Teatro Guaíra\, R. XV de Novembro\, 971\, Curitiba\, PR\, 80060-000\, Brazil
CATEGORIES:Teatro
ATTACH;FMTTYPE=image/jpeg:https://praconhecermelhor.com.br/wp-content/uploads/2025/03/minha-vida-em-marte-1.jpg
END:VEVENT
BEGIN:VEVENT
DTSTART;TZID=America/Sao_Paulo:20250320T210000
DTEND;TZID=America/Sao_Paulo:20250320T230000
DTSTAMP:20260423T144510
CREATED:20250311T221107Z
LAST-MODIFIED:20250311T221107Z
UID:3657-1742504400-1742511600@praconhecermelhor.com.br
SUMMARY:Pitty em Curitiba: ACNXX Tour celebra duas décadas de rock e atitude
DESCRIPTION:No dia 20 de março de 2025\, a icônica Pitty desembarca no Teatro Positivo com a turnê ACNXX\, celebrando seus 20 anos de carreira e trazendo um show memorável para os fãs de todas as gerações. \nCom sua voz potente e letras que ecoam a alma do rock\, Pitty se consolidou como uma das maiores artistas do cenário musical brasileiro. A turnê ACNXX revisita os grandes sucessos de sua trajetória\, desde o estrondoso álbum de estreia “Admirável Chip Novo” (2003) até os trabalhos mais recentes\, como o aclamado “Matriz” (2019). \nO público pode esperar um show visceral\, com uma banda afiada e uma performance que transborda atitude e emoção. No repertório\, hinos como “Máscara”\, “Equalize”\, “Me Adora” e “Na Sua Estante” se misturam a novas canções\, em uma celebração da força e da relevância da obra de Pitty. \nMomentos especiais da carreira: \n\n“Admirável Chip Novo” (2003): O álbum de estreia que explodiu no cenário musical\, com hits que marcaram uma geração.\nMTV Video Music Brasil: Prêmios de Melhor Clipe de Rock e Melhor Performance Ao Vivo\, consolidando sua presença na cena.\nProjetos paralelos: A participação no projeto Agridoce\, explorando sonoridades mais intimistas\, e o lançamento do livro “Cronografia de um Insistente”.\n“Matriz” (2019): Um álbum que explora as raízes da música brasileira\, com influências de samba\, baião e maracatu.\n\nServiço: \n\nShow: Pitty – ACNXX Tour\nData: 20 de março de 2025 (quinta-feira)\nHorário: Abertura da casa às 19h\, show às 21h\nLocal: Teatro Positivo\nEndereço: R. Pedro Viriato Parigot de Souza\, 5300\nIngressos: de R$ 130 (meia) a R$ 660 (inteira)\, variando conforme modalidade e setor\, à venda no site Disk Ingressos.
URL:https://praconhecermelhor.com.br/evento/pitty-em-curitiba-acnxx-tour-celebra-duas-decadas-de-rock-e-atitude/
LOCATION:Teatro Positivo\, Pedro Viriato Parigot de Souza 5300\, Curitiba\, Paraná\, Brazil
CATEGORIES:Música
ATTACH;FMTTYPE=image/jpeg:https://praconhecermelhor.com.br/wp-content/uploads/2025/03/Pitty-1.jpg
END:VEVENT
BEGIN:VEVENT
DTSTART;TZID=America/Sao_Paulo:20250315T210000
DTEND;TZID=America/Sao_Paulo:20250315T230000
DTSTAMP:20260423T144510
CREATED:20250311T220627Z
LAST-MODIFIED:20250311T220627Z
UID:3653-1742072400-1742079600@praconhecermelhor.com.br
SUMMARY:Ney Matogrosso em Curitiba
DESCRIPTION:Curitiba\, prepare-se para uma noite inesquecível! No dia 15 de março\, às 21h\, o lendário Ney Matogrosso desembarca no palco do Teatro Guaíra com o show “Eu Quero é Botar Meu Bloco na Rua”\, um espetáculo que celebra a carreira de um dos maiores ícones da música brasileira. \nCom sua voz inconfundível e presença de palco magnética\, Ney Matogrosso promete uma apresentação memorável\, revisitando clássicos de sua trajetória e canções que marcaram época. O público pode esperar um show vibrante\, com figurinos extravagantes e uma performance que transborda energia e emoção. \nNascido em Mato Grosso do Sul\, Ney Matogrosso iniciou sua carreira musical na década de 1970\, como vocalista do grupo Secos & Molhados. Com seu estilo andrógino e performances teatrais\, o grupo revolucionou a cena musical brasileira. Em carreira solo\, Ney consolidou-se como um dos maiores intérpretes do país\, com um repertório que abrange diversos gêneros musicais\, do rock à MPB. \nServiço: \n\nShow: Ney Matogrosso – “Eu Quero é Botar Meu Bloco na Rua”\nData: 15 de março de 2025\nHorário: 21h\nLocal: Teatro Guaíra\nEndereço: Rua XV de Novembro\, 971 – Centro\, Curitiba – PR\, 80060-000\nIngressos: DiskIngressos à partir de R$ 380\,00
URL:https://praconhecermelhor.com.br/evento/ney-matogrosso-em-curitiba/
LOCATION:Teatro Guaíra\, R. XV de Novembro\, 971\, Curitiba\, PR\, 80060-000\, Brazil
CATEGORIES:Música
ATTACH;FMTTYPE=image/jpeg:https://praconhecermelhor.com.br/wp-content/uploads/2025/03/Agenda-1.jpg
END:VEVENT
BEGIN:VEVENT
DTSTART;TZID=America/Sao_Paulo:20241024T080000
DTEND;TZID=America/Sao_Paulo:20250615T170000
DTSTAMP:20260423T144510
CREATED:20250415T134842Z
LAST-MODIFIED:20250415T134842Z
UID:3868-1729756800-1750006800@praconhecermelhor.com.br
SUMMARY:Museu Oscar Niemeyer apresenta a impactante exposição "Afeganistão – Tapetes de Paz e Guerra"
DESCRIPTION:Curitiba é palco de uma reflexão sobre a história e a cultura do Afeganistão através da arte têxtil e da joalheria. O Museu Oscar Niemeyer (MON) inaugura a exposição “Afeganistão – tapetes de paz e guerra”\, em cartaz na Torre do Olho (térreo e primeiro andar) até 15 de junho de 2025. \nCom curadoria do colecionador Victor Nosek e colaboração do professor e diplomata Fausto Godoy\, a mostra reúne um acervo singular de 37 tapetes afegãos que narram\, através de seus desenhos e cores\, diferentes momentos do complexo panorama sociopolítico e cultural do país. As peças retratam tanto cenas de conflito quanto representações de paz e da vida cotidiana\, oferecendo um olhar sensível sobre a resiliência e a identidade do povo afegão. \nComplementando a imersão cultural\, a exposição apresenta 32 joias afegãs\, artefatos que integram o dia a dia das comunidades das regiões onde os tapetes foram confeccionados. As joias revelam a beleza e a riqueza da arte tradicional afegã\, estabelecendo um diálogo fascinante com a narrativa dos tapetes. \n“Afeganistão – tapetes de paz e guerra” convida o público a uma jornada visual e histórica\, proporcionando um contato profundo com a arte e a cultura de um país marcado por desafios e pela riqueza de sua herança ancestral. \nServiço: \n\nExposição: Afeganistão – tapetes de paz e guerra\nCuradoria: Victor Nosek\, com colaboração de Fausto Godoy\nPeríodo: De 24 de outubro de 2024 até 15 de junho de 2025\nLocal: Torre do Olho (térreo e primeiro andar)\nMuseu Oscar Niemeyer (MON)\nEndereço: Rua Marechal Hermes\, 999 – Centro Cívico\, Curitiba – PR\nHorário de funcionamento: Terça a domingo\, das 10h às 18h (acesso até as 17h30)\nIngressos: R$ 36 (inteira) | R$ 18 (meia-entrada)\nEntrada gratuita: Toda quarta-feira\n\nSaiba mais sobre a exposição no site do MON. \nVisite o MON e embarque nesta impactante viagem pela arte e história do Afeganistão!
URL:https://praconhecermelhor.com.br/evento/museu-oscar-niemeyer-apresenta-a-impactante-exposicao-afeganistao-tapetes-de-paz-e-guerra/
LOCATION:MON – Museu Oscar Niemeyer\, Rua Marechal Hermes\, 999 - Centro Cívico\, Curitiba\, Paraná\, Brazil
CATEGORIES:Exposições
ATTACH;FMTTYPE=image/jpeg:https://praconhecermelhor.com.br/wp-content/uploads/2025/04/MON-Tapetes-do-Afeganistao.jpg
END:VEVENT
END:VCALENDAR